BEGIN:VCALENDAR
VERSION:2.0
PRODID:-//193.239.44.119//NONSGML kigkonsult.se iCalcreator 2.20//
CALSCALE:GREGORIAN
METHOD:PUBLISH
X-WR-TIMEZONE:Europe/Warsaw
BEGIN:VEVENT
UID:event555@Parafia Rzymskokatolicka Najświętszego Serca Jezusowego w Łęcz
 u - Salezjanie
DTSTAMP:20260420T020833Z
CATEGORIES:Msza Święta
DESCRIPTION:O światło Ducha Świętego dla Kuby w czasie egzaminów maturalnyc
 h i o Boże Błogosławieństwo dla jego rodziców w 20 rocznicę sakramentu mał
 żeństwa\nKategoria: Msza Święta\nLink: https://lecze-salezjanie.pl/index.p
 hp?option=com_jem&view=event&id=555:o-swiatlo-ducha-swietego-dla-kuby-w-cz
 asie-egzaminow-maturalnych-i-o-boze-blogoslawienstwo-dla-jego-rodzicow-w-2
 0-rocznice-sakramentu-malzenstwa\n
DTSTART;TZID=Europe/Warsaw:20220503T090000
DTEND;TZID=Europe/Warsaw:20220503T090000
LOCATION:Kościół Najświętszego Serca Jezusowego w Łęczu\,Łęcze 48\,Łęcze
SUMMARY:O światło Ducha Świętego dla Kuby w czasie egzaminów maturalnych i 
 o Boże Błogosławieństwo dla jego rodziców w 20 rocznicę sakramentu małżeńs
 twa
URL:https://lecze-salezjanie.pl/index.php?option=com_jem&view=event&id=555:
 o-swiatlo-ducha-swietego-dla-kuby-w-czasie-egzaminow-maturalnych-i-o-boze-
 blogoslawienstwo-dla-jego-rodzicow-w-20-rocznice-sakramentu-malzenstwa
END:VEVENT
END:VCALENDAR