BEGIN:VCALENDAR
VERSION:2.0
PRODID:-//193.239.44.119//NONSGML kigkonsult.se iCalcreator 2.20//
CALSCALE:GREGORIAN
METHOD:PUBLISH
X-WR-TIMEZONE:Europe/Warsaw
BEGIN:VEVENT
UID:event557@Parafia Rzymskokatolicka Najświętszego Serca Jezusowego w Łęcz
 u - Salezjanie
DTSTAMP:20260420T015751Z
CATEGORIES:Nabożeństwo
DESCRIPTION:Nabożeństwo Pokutne i spowiedź\nKategoria: Nabożeństwo\nLink: h
 ttps://lecze-salezjanie.pl/index.php?option=com_jem&view=event&id=557:nabo
 zenstwo-pokutne-i-spowiedz\n
DTSTART;TZID=Europe/Warsaw:20220520T160000
DTEND;TZID=Europe/Warsaw:20220520T160000
LOCATION:Kościół Najświętszego Serca Jezusowego w Łęczu\,Łęcze 48\,Łęcze
SUMMARY:Nabożeństwo Pokutne i spowiedź
URL:https://lecze-salezjanie.pl/index.php?option=com_jem&view=event&id=557:
 nabozenstwo-pokutne-i-spowiedz
END:VEVENT
END:VCALENDAR