BEGIN:VCALENDAR
VERSION:2.0
PRODID:-//193.239.44.119//NONSGML kigkonsult.se iCalcreator 2.20//
CALSCALE:GREGORIAN
METHOD:PUBLISH
X-WR-TIMEZONE:Europe/Warsaw
BEGIN:VEVENT
UID:event559@Parafia Rzymskokatolicka Najświętszego Serca Jezusowego w Łęcz
 u - Salezjanie
DTSTAMP:20260420T015835Z
CATEGORIES:Nabożeństwo
DESCRIPTION:Nabożeństwo Pokutne i spowiedź\nKategoria: Nabożeństwo\nLink: h
 ttps://lecze-salezjanie.pl/index.php?option=com_jem&view=event&id=559:nabo
 zenstwo-pokutne-i-spowiedz-1\n
DTSTART;TZID=Europe/Warsaw:20220520T173000
DTEND;TZID=Europe/Warsaw:20220520T173000
LOCATION:Kościół Maryi Wspomożycielki Wiernych w Suchaczu\,Kielecka 12B\,Su
 chacz
SUMMARY:Nabożeństwo Pokutne i spowiedź
URL:https://lecze-salezjanie.pl/index.php?option=com_jem&view=event&id=559:
 nabozenstwo-pokutne-i-spowiedz-1
END:VEVENT
END:VCALENDAR