BEGIN:VCALENDAR
VERSION:2.0
PRODID:-//193.239.44.119//NONSGML kigkonsult.se iCalcreator 2.20//
CALSCALE:GREGORIAN
METHOD:PUBLISH
X-WR-TIMEZONE:Europe/Warsaw
BEGIN:VEVENT
UID:event562@Parafia Rzymskokatolicka Najświętszego Serca Jezusowego w Łęcz
 u - Salezjanie
DTSTAMP:20260419T184644Z
CATEGORIES:Msza Święta
DESCRIPTION:Dziękczynna\, z prośbą o zdrowie\, Boże Błogosławieństwo i opie
 kę Matki Bożej dla dzieci i wnuków\nKategoria: Msza Święta\nLink: https://
 lecze-salezjanie.pl/index.php?option=com_jem&view=event&id=562:dziekczynna
 -z-prosba-o-zdrowie-boze-blogoslawienstwo-i-opieke-matki-bozej-dla-dzieci-
 i-wnukow\n
DTSTART;TZID=Europe/Warsaw:20220821T090000
DTEND;TZID=Europe/Warsaw:20220821T090000
LOCATION:Kościół Najświętszego Serca Jezusowego w Łęczu\,Łęcze 48\,Łęcze
SUMMARY:Dziękczynna\, z prośbą o zdrowie\, Boże Błogosławieństwo i opiekę M
 atki Bożej dla dzieci i wnuków
URL:https://lecze-salezjanie.pl/index.php?option=com_jem&view=event&id=562:
 dziekczynna-z-prosba-o-zdrowie-boze-blogoslawienstwo-i-opieke-matki-bozej-
 dla-dzieci-i-wnukow
END:VEVENT
END:VCALENDAR