BEGIN:VCALENDAR
VERSION:2.0
PRODID:-//193.239.44.119//NONSGML kigkonsult.se iCalcreator 2.20//
CALSCALE:GREGORIAN
METHOD:PUBLISH
X-WR-TIMEZONE:Europe/Warsaw
BEGIN:VEVENT
UID:event563@Parafia Rzymskokatolicka Najświętszego Serca Jezusowego w Łęcz
 u - Salezjanie
DTSTAMP:20260420T001508Z
CATEGORIES:Msza Święta
DESCRIPTION:+ Irena i Maksymilian Buławscy\nKategoria: Msza Święta\nLink: h
 ttps://lecze-salezjanie.pl/index.php?option=com_jem&view=event&id=563:iren
 a-i-maksymilian-bulawscy\n
DTSTART;TZID=Europe/Warsaw:20220503T103000
DTEND;TZID=Europe/Warsaw:20220503T103000
LOCATION:Kościół Maryi Wspomożycielki Wiernych w Suchaczu\,Kielecka 12B\,Su
 chacz
SUMMARY:+ Irena i Maksymilian Buławscy
URL:https://lecze-salezjanie.pl/index.php?option=com_jem&view=event&id=563:
 irena-i-maksymilian-bulawscy
END:VEVENT
END:VCALENDAR