BEGIN:VCALENDAR
VERSION:2.0
PRODID:-//193.239.44.119//NONSGML kigkonsult.se iCalcreator 2.20//
CALSCALE:GREGORIAN
METHOD:PUBLISH
X-WR-TIMEZONE:Europe/Warsaw
BEGIN:VEVENT
UID:event565@Parafia Rzymskokatolicka Najświętszego Serca Jezusowego w Łęcz
 u - Salezjanie
DTSTAMP:20260420T020205Z
CATEGORIES:Msza Święta
DESCRIPTION:O Boże Błogosławieństwo\, zdrowie i opiekę Matki Bożej dla Magd
 y\nKategoria: Msza Święta\nLink: https://lecze-salezjanie.pl/index.php?opt
 ion=com_jem&view=event&id=565:o-boze-blogoslawienstwo-zdrowie-i-opieke-mat
 ki-bozej-dla-magdy\n
DTSTART;TZID=Europe/Warsaw:20220507T170000
DTEND;TZID=Europe/Warsaw:20220507T170000
LOCATION:Kościół Maryi Wspomożycielki Wiernych w Suchaczu\,Kielecka 12B\,Su
 chacz
SUMMARY:O Boże Błogosławieństwo\, zdrowie i opiekę Matki Bożej dla Magdy
URL:https://lecze-salezjanie.pl/index.php?option=com_jem&view=event&id=565:
 o-boze-blogoslawienstwo-zdrowie-i-opieke-matki-bozej-dla-magdy
END:VEVENT
END:VCALENDAR