BEGIN:VCALENDAR
VERSION:2.0
PRODID:-//193.239.44.119//NONSGML kigkonsult.se iCalcreator 2.20//
CALSCALE:GREGORIAN
METHOD:PUBLISH
X-WR-TIMEZONE:Europe/Warsaw
BEGIN:VEVENT
UID:event566@Parafia Rzymskokatolicka Najświętszego Serca Jezusowego w Łęcz
 u - Salezjanie
DTSTAMP:20260420T020143Z
CATEGORIES:Msza Święta
DESCRIPTION:+ Czesław Brywczyński - w 5 rocznicę śmierci oraz za zmarłych r
 odziców z obojga stron\nKategoria: Msza Święta\nLink: https://lecze-salezj
 anie.pl/index.php?option=com_jem&view=event&id=566:czeslaw-brywczynski-w-5
 -rocznice-smierci-oraz-za-zmarlych-rodzicow-z-obojga-stron\n
DTSTART;TZID=Europe/Warsaw:20220508T120000
DTEND;TZID=Europe/Warsaw:20220508T120000
LOCATION:Świetlica Wiejska w Kamionku Wielkim\,Kamionek Wielki 5B\,Kamionek
  Wielki
SUMMARY:+ Czesław Brywczyński - w 5 rocznicę śmierci oraz za zmarłych rodzi
 ców z obojga stron
URL:https://lecze-salezjanie.pl/index.php?option=com_jem&view=event&id=566:
 czeslaw-brywczynski-w-5-rocznice-smierci-oraz-za-zmarlych-rodzicow-z-obojg
 a-stron
END:VEVENT
END:VCALENDAR