BEGIN:VCALENDAR
VERSION:2.0
PRODID:-//193.239.44.119//NONSGML kigkonsult.se iCalcreator 2.20//
CALSCALE:GREGORIAN
METHOD:PUBLISH
X-WR-TIMEZONE:Europe/Warsaw
BEGIN:VEVENT
UID:event567@Parafia Rzymskokatolicka Najświętszego Serca Jezusowego w Łęcz
 u - Salezjanie
DTSTAMP:20260420T020713Z
CATEGORIES:Msza Święta
DESCRIPTION:O Boże Błogosławieństwo\, zdrowie i opiekę Matki Bożej dla Stan
 isława i Anny\nKategoria: Msza Święta\nLink: https://lecze-salezjanie.pl/i
 ndex.php?option=com_jem&view=event&id=567:o-boze-blogoslawienstwo-zdrowie-
 i-opieke-matki-bozej-dla-stanislawa-i-anny\n
DTSTART;TZID=Europe/Warsaw:20220509T170000
DTEND;TZID=Europe/Warsaw:20220509T170000
LOCATION:Kościół Maryi Wspomożycielki Wiernych w Suchaczu\,Kielecka 12B\,Su
 chacz
SUMMARY:O Boże Błogosławieństwo\, zdrowie i opiekę Matki Bożej dla Stanisła
 wa i Anny
URL:https://lecze-salezjanie.pl/index.php?option=com_jem&view=event&id=567:
 o-boze-blogoslawienstwo-zdrowie-i-opieke-matki-bozej-dla-stanislawa-i-anny
END:VEVENT
END:VCALENDAR