BEGIN:VCALENDAR
VERSION:2.0
PRODID:-//193.239.44.119//NONSGML kigkonsult.se iCalcreator 2.20//
CALSCALE:GREGORIAN
METHOD:PUBLISH
X-WR-TIMEZONE:Europe/Warsaw
BEGIN:VEVENT
UID:event572@Parafia Rzymskokatolicka Najświętszego Serca Jezusowego w Łęcz
 u - Salezjanie
DTSTAMP:20260420T001108Z
CATEGORIES:Msza Święta
DESCRIPTION:+ Genowefa Piotrowska\nKategoria: Msza Święta\nLink: https://le
 cze-salezjanie.pl/index.php?option=com_jem&view=event&id=572:genowefa-piot
 rowska\n
DTSTART;TZID=Europe/Warsaw:20220520T170000
DTEND;TZID=Europe/Warsaw:20220520T170000
LOCATION:Kościół Maryi Wspomożycielki Wiernych w Suchaczu\,Kielecka 12B\,Su
 chacz
SUMMARY:+ Genowefa Piotrowska
URL:https://lecze-salezjanie.pl/index.php?option=com_jem&view=event&id=572:
 genowefa-piotrowska
END:VEVENT
END:VCALENDAR