BEGIN:VCALENDAR
VERSION:2.0
PRODID:-//193.239.44.119//NONSGML kigkonsult.se iCalcreator 2.20//
CALSCALE:GREGORIAN
METHOD:PUBLISH
X-WR-TIMEZONE:Europe/Warsaw
BEGIN:VEVENT
UID:event576@Parafia Rzymskokatolicka Najświętszego Serca Jezusowego w Łęcz
 u - Salezjanie
DTSTAMP:20260419T184523Z
CATEGORIES:Msza Święta
DESCRIPTION:+ Marianna Matuszak - w 25 rocznicę śmierci oraz Franciszek\, I
 wona\, Regina i Leon\nKategoria: Msza Święta\nLink: https://lecze-salezjan
 ie.pl/index.php?option=com_jem&view=event&id=576:marianna-matuszak-w-25-ro
 cznice-smierci-oraz-franciszek-iwona-regina-i-leon\n
DTSTART;TZID=Europe/Warsaw:20220814T103000
DTEND;TZID=Europe/Warsaw:20220814T103000
LOCATION:Kościół Maryi Wspomożycielki Wiernych w Suchaczu\,Kielecka 12B\,Su
 chacz
SUMMARY:+ Marianna Matuszak - w 25 rocznicę śmierci oraz Franciszek\, Iwona
 \, Regina i Leon
URL:https://lecze-salezjanie.pl/index.php?option=com_jem&view=event&id=576:
 marianna-matuszak-w-25-rocznice-smierci-oraz-franciszek-iwona-regina-i-leo
 n
END:VEVENT
END:VCALENDAR