BEGIN:VCALENDAR
VERSION:2.0
PRODID:-//193.239.44.119//NONSGML kigkonsult.se iCalcreator 2.20//
CALSCALE:GREGORIAN
METHOD:PUBLISH
X-WR-TIMEZONE:Europe/Warsaw
BEGIN:VEVENT
UID:event578@Parafia Rzymskokatolicka Najświętszego Serca Jezusowego w Łęcz
 u - Salezjanie
DTSTAMP:20260420T001630Z
CATEGORIES:Msza Święta
DESCRIPTION:O zdrowie dla lekarza Doktora Berneckiego\nKategoria: Msza Świę
 ta\nLink: https://lecze-salezjanie.pl/index.php?option=com_jem&view=event&
 id=578:o-zdrowie-dla-lekarza-doktora-berneckiego\n
DTSTART;TZID=Europe/Warsaw:20220512T170000
DTEND;TZID=Europe/Warsaw:20220512T170000
LOCATION:Kościół Maryi Wspomożycielki Wiernych w Suchaczu\,Kielecka 12B\,Su
 chacz
SUMMARY:O zdrowie dla lekarza Doktora Berneckiego
URL:https://lecze-salezjanie.pl/index.php?option=com_jem&view=event&id=578:
 o-zdrowie-dla-lekarza-doktora-berneckiego
END:VEVENT
END:VCALENDAR