BEGIN:VCALENDAR
VERSION:2.0
PRODID:-//193.239.44.119//NONSGML kigkonsult.se iCalcreator 2.20//
CALSCALE:GREGORIAN
METHOD:PUBLISH
X-WR-TIMEZONE:Europe/Warsaw
BEGIN:VEVENT
UID:event579@Parafia Rzymskokatolicka Najświętszego Serca Jezusowego w Łęcz
 u - Salezjanie
DTSTAMP:20260420T001635Z
CATEGORIES:Msza Święta
DESCRIPTION:Dziękczynna\, z prośbą o potrzebne łaski dla Stasi\nKategoria: 
 Msza Święta\nLink: https://lecze-salezjanie.pl/index.php?option=com_jem&vi
 ew=event&id=579:dziekczynna-z-prosba-o-potrzebne-laski-dla-stasi\n
DTSTART;TZID=Europe/Warsaw:20220513T170000
DTEND;TZID=Europe/Warsaw:20220513T170000
LOCATION:Kościół Maryi Wspomożycielki Wiernych w Suchaczu\,Kielecka 12B\,Su
 chacz
SUMMARY:Dziękczynna\, z prośbą o potrzebne łaski dla Stasi
URL:https://lecze-salezjanie.pl/index.php?option=com_jem&view=event&id=579:
 dziekczynna-z-prosba-o-potrzebne-laski-dla-stasi
END:VEVENT
END:VCALENDAR