BEGIN:VCALENDAR
VERSION:2.0
PRODID:-//193.239.44.119//NONSGML kigkonsult.se iCalcreator 2.20//
CALSCALE:GREGORIAN
METHOD:PUBLISH
X-WR-TIMEZONE:Europe/Warsaw
BEGIN:VEVENT
UID:event583@Parafia Rzymskokatolicka Najświętszego Serca Jezusowego w Łęcz
 u - Salezjanie
DTSTAMP:20260419T184421Z
CATEGORIES:Msza Święta
DESCRIPTION:+ Genowefa - w 10 rocznicę śmierci\, Anna i Edward\, zmarli rod
 zice z obojga stron\nKategoria: Msza Święta\nLink: https://lecze-salezjani
 e.pl/index.php?option=com_jem&view=event&id=583:genowefa-w-10-rocznice-smi
 erci-anna-i-edward-zmarli-rodzice-z-obojga-stron\n
DTSTART;TZID=Europe/Warsaw:20220807T120000
DTEND;TZID=Europe/Warsaw:20220807T120000
LOCATION:Kościół Najświętszego Serca Jezusowego w Łęczu\,Łęcze 48\,Łęcze
SUMMARY:+ Genowefa - w 10 rocznicę śmierci\, Anna i Edward\, zmarli rodzice
  z obojga stron
URL:https://lecze-salezjanie.pl/index.php?option=com_jem&view=event&id=583:
 genowefa-w-10-rocznice-smierci-anna-i-edward-zmarli-rodzice-z-obojga-stron
END:VEVENT
END:VCALENDAR