BEGIN:VCALENDAR
VERSION:2.0
PRODID:-//193.239.44.119//NONSGML kigkonsult.se iCalcreator 2.20//
CALSCALE:GREGORIAN
METHOD:PUBLISH
X-WR-TIMEZONE:Europe/Warsaw
BEGIN:VEVENT
UID:event588@Parafia Rzymskokatolicka Najświętszego Serca Jezusowego w Łęcz
 u - Salezjanie
DTSTAMP:20260419T152221Z
CATEGORIES:Msza Święta
DESCRIPTION:+ Jadwiga i Józef Wiśniewscy\, zmarli z rodziny Woś\nKategoria:
  Msza Święta\nLink: https://lecze-salezjanie.pl/index.php?option=com_jem&v
 iew=event&id=588:jadwiga-i-jozef-wisniewscy-zmarli-z-rodziny-wos\n
DTSTART;TZID=Europe/Warsaw:20221016T090000
DTEND;TZID=Europe/Warsaw:20221016T090000
LOCATION:Kościół Najświętszego Serca Jezusowego w Łęczu\,Łęcze 48\,Łęcze
SUMMARY:+ Jadwiga i Józef Wiśniewscy\, zmarli z rodziny Woś
URL:https://lecze-salezjanie.pl/index.php?option=com_jem&view=event&id=588:
 jadwiga-i-jozef-wisniewscy-zmarli-z-rodziny-wos
END:VEVENT
END:VCALENDAR