BEGIN:VCALENDAR
VERSION:2.0
PRODID:-//193.239.44.119//NONSGML kigkonsult.se iCalcreator 2.20//
CALSCALE:GREGORIAN
METHOD:PUBLISH
X-WR-TIMEZONE:Europe/Warsaw
BEGIN:VEVENT
UID:event58@Parafia Rzymskokatolicka Najświętszego Serca Jezusowego w Łęczu
  - Salezjanie
DTSTAMP:20260420T070503Z
CATEGORIES:Msza Święta
DESCRIPTION:O łaskę wiary\, Boże Błogosławieństwo\, uzdrowienie duszy i cia
 ła dla Wojtka\, Marcina i ich rodzin\nKategoria: Msza Święta\nLink: https:
 //lecze-salezjanie.pl/index.php?option=com_jem&view=event&id=58:o-laske-wi
 ary-boze-blogoslawienstwo-uzdrowienie-duszy-i-ciala-dla-wojtka-marcina-i-i
 ch-rodzin\n
DTSTART;TZID=Europe/Warsaw:20220126T180000
DTEND;TZID=Europe/Warsaw:20220126T180000
LOCATION:Kościół Najświętszego Serca Jezusowego w Łęczu\,Łęcze 48\,Łęcze
SUMMARY:O łaskę wiary\, Boże Błogosławieństwo\, uzdrowienie duszy i ciała d
 la Wojtka\, Marcina i ich rodzin
URL:https://lecze-salezjanie.pl/index.php?option=com_jem&view=event&id=58:o
 -laske-wiary-boze-blogoslawienstwo-uzdrowienie-duszy-i-ciala-dla-wojtka-ma
 rcina-i-ich-rodzin
END:VEVENT
END:VCALENDAR