BEGIN:VCALENDAR
VERSION:2.0
PRODID:-//193.239.44.119//NONSGML kigkonsult.se iCalcreator 2.20//
CALSCALE:GREGORIAN
METHOD:PUBLISH
X-WR-TIMEZONE:Europe/Warsaw
BEGIN:VEVENT
UID:event596@Parafia Rzymskokatolicka Najświętszego Serca Jezusowego w Łęcz
 u - Salezjanie
DTSTAMP:20260420T020012Z
CATEGORIES:Msza Święta
DESCRIPTION:Jubileusz 50 lat kapłaństwa ks. Tadeusza Mazura SDB\nKategoria:
  Msza Święta\nLink: https://lecze-salezjanie.pl/index.php?option=com_jem&v
 iew=event&id=596:jubileusz-50-lat-kaplanstwa-ks-tadeusza-mazura-sdb\n
DTSTART;TZID=Europe/Warsaw:20220515T103000
DTEND;TZID=Europe/Warsaw:20220515T103000
LOCATION:Kościół Maryi Wspomożycielki Wiernych w Suchaczu\,Kielecka 12B\,Su
 chacz
SUMMARY:Jubileusz 50 lat kapłaństwa ks. Tadeusza Mazura SDB
URL:https://lecze-salezjanie.pl/index.php?option=com_jem&view=event&id=596:
 jubileusz-50-lat-kaplanstwa-ks-tadeusza-mazura-sdb
END:VEVENT
END:VCALENDAR