BEGIN:VCALENDAR
VERSION:2.0
PRODID:-//193.239.44.119//NONSGML kigkonsult.se iCalcreator 2.20//
CALSCALE:GREGORIAN
METHOD:PUBLISH
X-WR-TIMEZONE:Europe/Warsaw
BEGIN:VEVENT
UID:event597@Parafia Rzymskokatolicka Najświętszego Serca Jezusowego w Łęcz
 u - Salezjanie
DTSTAMP:20260420T001920Z
CATEGORIES:Msza Święta
DESCRIPTION:O zdrowie\, Boże Błogosławieństwo i opiekę Matki Bożej dla Kami
 la Kowalskiego\nKategoria: Msza Święta\nLink: https://lecze-salezjanie.pl/
 index.php?option=com_jem&view=event&id=597:o-zdrowie-boze-blogoslawienstwo
 -i-opieke-matki-bozej-dla-kamila-kowalskiego\n
DTSTART;TZID=Europe/Warsaw:20220515T120000
DTEND;TZID=Europe/Warsaw:20220515T120000
LOCATION:Świetlica Wiejska w Kamionku Wielkim\,Kamionek Wielki 5B\,Kamionek
  Wielki
SUMMARY:O zdrowie\, Boże Błogosławieństwo i opiekę Matki Bożej dla Kamila K
 owalskiego
URL:https://lecze-salezjanie.pl/index.php?option=com_jem&view=event&id=597:
 o-zdrowie-boze-blogoslawienstwo-i-opieke-matki-bozej-dla-kamila-kowalskieg
 o
END:VEVENT
END:VCALENDAR