BEGIN:VCALENDAR
VERSION:2.0
PRODID:-//193.239.44.119//NONSGML kigkonsult.se iCalcreator 2.20//
CALSCALE:GREGORIAN
METHOD:PUBLISH
X-WR-TIMEZONE:Europe/Warsaw
BEGIN:VEVENT
UID:event601@Parafia Rzymskokatolicka Najświętszego Serca Jezusowego w Łęcz
 u - Salezjanie
DTSTAMP:20260419T220931Z
CATEGORIES:Msza Święta
DESCRIPTION:+ Marcin\, Henryk\, Robert Jeszke\nKategoria: Msza Święta\nLink
 : https://lecze-salezjanie.pl/index.php?option=com_jem&view=event&id=601:m
 arcin-henryk-robert-jeszke\n
DTSTART;TZID=Europe/Warsaw:20220626T103000
DTEND;TZID=Europe/Warsaw:20220626T103000
LOCATION:Kościół Maryi Wspomożycielki Wiernych w Suchaczu\,Kielecka 12B\,Su
 chacz
SUMMARY:+ Marcin\, Henryk\, Robert Jeszke
URL:https://lecze-salezjanie.pl/index.php?option=com_jem&view=event&id=601:
 marcin-henryk-robert-jeszke
END:VEVENT
END:VCALENDAR