BEGIN:VCALENDAR
VERSION:2.0
PRODID:-//193.239.44.119//NONSGML kigkonsult.se iCalcreator 2.20//
CALSCALE:GREGORIAN
METHOD:PUBLISH
X-WR-TIMEZONE:Europe/Warsaw
BEGIN:VEVENT
UID:event602@Parafia Rzymskokatolicka Najświętszego Serca Jezusowego w Łęcz
 u - Salezjanie
DTSTAMP:20260419T203938Z
CATEGORIES:Msza Święta
DESCRIPTION:Dziękczynna\, z prośbą o Boże Błogosławieństwo i opiekę Matki B
 ożej na wakacje dla dzieci i wnuków Jadwigi Makarewicz\nKategoria: Msza Św
 ięta\nLink: https://lecze-salezjanie.pl/index.php?option=com_jem&view=even
 t&id=602:dziekczynna-z-prosba-o-boze-blogoslawienstwo-i-opieke-matki-bozej
 -na-wakacje-dla-dzieci-i-wnukow-jadwigi-makarewicz\n
DTSTART;TZID=Europe/Warsaw:20220703T090000
DTEND;TZID=Europe/Warsaw:20220703T090000
LOCATION:Kościół Maryi Wspomożycielki Wiernych w Suchaczu\,Kielecka 12B\,Su
 chacz
SUMMARY:Dziękczynna\, z prośbą o Boże Błogosławieństwo i opiekę Matki Bożej
  na wakacje dla dzieci i wnuków Jadwigi Makarewicz
URL:https://lecze-salezjanie.pl/index.php?option=com_jem&view=event&id=602:
 dziekczynna-z-prosba-o-boze-blogoslawienstwo-i-opieke-matki-bozej-na-wakac
 je-dla-dzieci-i-wnukow-jadwigi-makarewicz
END:VEVENT
END:VCALENDAR