BEGIN:VCALENDAR
VERSION:2.0
PRODID:-//193.239.44.119//NONSGML kigkonsult.se iCalcreator 2.20//
CALSCALE:GREGORIAN
METHOD:PUBLISH
X-WR-TIMEZONE:Europe/Warsaw
BEGIN:VEVENT
UID:event605@Parafia Rzymskokatolicka Najświętszego Serca Jezusowego w Łęcz
 u - Salezjanie
DTSTAMP:20260419T120542Z
CATEGORIES:Msza Święta
DESCRIPTION:+ Antoni\, Irena\, Zbigniew\, Józef Mamczyńscy\nKategoria: Msza
  Święta\nLink: https://lecze-salezjanie.pl/index.php?option=com_jem&view=e
 vent&id=605:antoni-irena-zbigniew-jozef-mamczynscy\n
DTSTART;TZID=Europe/Warsaw:20221106T103000
DTEND;TZID=Europe/Warsaw:20221106T103000
LOCATION:Kościół Maryi Wspomożycielki Wiernych w Suchaczu\,Kielecka 12B\,Su
 chacz
SUMMARY:+ Antoni\, Irena\, Zbigniew\, Józef Mamczyńscy
URL:https://lecze-salezjanie.pl/index.php?option=com_jem&view=event&id=605:
 antoni-irena-zbigniew-jozef-mamczynscy
END:VEVENT
END:VCALENDAR