BEGIN:VCALENDAR
VERSION:2.0
PRODID:-//193.239.44.119//NONSGML kigkonsult.se iCalcreator 2.20//
CALSCALE:GREGORIAN
METHOD:PUBLISH
X-WR-TIMEZONE:Europe/Warsaw
BEGIN:VEVENT
UID:event608@Parafia Rzymskokatolicka Najświętszego Serca Jezusowego w Łęcz
 u - Salezjanie
DTSTAMP:20260420T001513Z
CATEGORIES:Msza Święta
DESCRIPTION:+ z Rodziny Rygałów\, Bartkowiczów\, Dudków i Serkisów\nKategor
 ia: Msza Święta\nLink: https://lecze-salezjanie.pl/index.php?option=com_je
 m&view=event&id=608:z-rodziny-rygalow-bartkowiczow-dudkow-i-serkisow\n
DTSTART;TZID=Europe/Warsaw:20220523T170000
DTEND;TZID=Europe/Warsaw:20220523T170000
LOCATION:Kościół Maryi Wspomożycielki Wiernych w Suchaczu\,Kielecka 12B\,Su
 chacz
SUMMARY:+ z Rodziny Rygałów\, Bartkowiczów\, Dudków i Serkisów
URL:https://lecze-salezjanie.pl/index.php?option=com_jem&view=event&id=608:
 z-rodziny-rygalow-bartkowiczow-dudkow-i-serkisow
END:VEVENT
END:VCALENDAR