BEGIN:VCALENDAR
VERSION:2.0
PRODID:-//193.239.44.119//NONSGML kigkonsult.se iCalcreator 2.20//
CALSCALE:GREGORIAN
METHOD:PUBLISH
X-WR-TIMEZONE:Europe/Warsaw
BEGIN:VEVENT
UID:event611@Parafia Rzymskokatolicka Najświętszego Serca Jezusowego w Łęcz
 u - Salezjanie
DTSTAMP:20260420T020713Z
CATEGORIES:Msza Święta
DESCRIPTION:O Boże Blogosławieństwo w obronie pracy inżynierskiej dla Karol
 a\nKategoria: Msza Święta\nLink: https://lecze-salezjanie.pl/index.php?opt
 ion=com_jem&view=event&id=611:o-boze-blogoslawienstwo-w-obronie-pracy-inzy
 nierskiej-dla-karola\n
DTSTART;TZID=Europe/Warsaw:20220525T170000
DTEND;TZID=Europe/Warsaw:20220525T170000
LOCATION:Kościół Maryi Wspomożycielki Wiernych w Suchaczu\,Kielecka 12B\,Su
 chacz
SUMMARY:O Boże Blogosławieństwo w obronie pracy inżynierskiej dla Karola
URL:https://lecze-salezjanie.pl/index.php?option=com_jem&view=event&id=611:
 o-boze-blogoslawienstwo-w-obronie-pracy-inzynierskiej-dla-karola
END:VEVENT
END:VCALENDAR