BEGIN:VCALENDAR
VERSION:2.0
PRODID:-//193.239.44.119//NONSGML kigkonsult.se iCalcreator 2.20//
CALSCALE:GREGORIAN
METHOD:PUBLISH
X-WR-TIMEZONE:Europe/Warsaw
BEGIN:VEVENT
UID:event612@Parafia Rzymskokatolicka Najświętszego Serca Jezusowego w Łęcz
 u - Salezjanie
DTSTAMP:20260420T001237Z
CATEGORIES:Msza Święta
DESCRIPTION:Za Dobrodziejów Parafii\nKategoria: Msza Święta\nLink: https://
 lecze-salezjanie.pl/index.php?option=com_jem&view=event&id=612:za-dobrodzi
 ejow-parafii\n
DTSTART;TZID=Europe/Warsaw:20220527T170000
DTEND;TZID=Europe/Warsaw:20220527T170000
LOCATION:Kościół Maryi Wspomożycielki Wiernych w Suchaczu\,Kielecka 12B\,Su
 chacz
SUMMARY:Za Dobrodziejów Parafii
URL:https://lecze-salezjanie.pl/index.php?option=com_jem&view=event&id=612:
 za-dobrodziejow-parafii
END:VEVENT
END:VCALENDAR