BEGIN:VCALENDAR
VERSION:2.0
PRODID:-//193.239.44.119//NONSGML kigkonsult.se iCalcreator 2.20//
CALSCALE:GREGORIAN
METHOD:PUBLISH
X-WR-TIMEZONE:Europe/Warsaw
BEGIN:VEVENT
UID:event615@Parafia Rzymskokatolicka Najświętszego Serca Jezusowego w Łęcz
 u - Salezjanie
DTSTAMP:20260420T020321Z
CATEGORIES:Msza Święta
DESCRIPTION:+ Jadwiga Pięknik - w 27 rocznicę śmierci i Grzegorz Pięknik - 
 w 3 rocznicę śmierci\, zmarli z rodziny Pięknik i Stokłosińskich\nKategori
 a: Msza Święta\nLink: https://lecze-salezjanie.pl/index.php?option=com_jem
 &view=event&id=615:jadwiga-pieknik-w-27-rocznice-smierci-i-grzegorz-piekni
 k-w-3-rocznice-smierci-zmarli-z-rodziny-pieknik-i-stoklosinskich\n
DTSTART;TZID=Europe/Warsaw:20220529T090000
DTEND;TZID=Europe/Warsaw:20220529T090000
LOCATION:Kościół Maryi Wspomożycielki Wiernych w Suchaczu\,Kielecka 12B\,Su
 chacz
SUMMARY:+ Jadwiga Pięknik - w 27 rocznicę śmierci i Grzegorz Pięknik - w 3 
 rocznicę śmierci\, zmarli z rodziny Pięknik i Stokłosińskich
URL:https://lecze-salezjanie.pl/index.php?option=com_jem&view=event&id=615:
 jadwiga-pieknik-w-27-rocznice-smierci-i-grzegorz-pieknik-w-3-rocznice-smie
 rci-zmarli-z-rodziny-pieknik-i-stoklosinskich
END:VEVENT
END:VCALENDAR