BEGIN:VCALENDAR
VERSION:2.0
PRODID:-//193.239.44.119//NONSGML kigkonsult.se iCalcreator 2.20//
CALSCALE:GREGORIAN
METHOD:PUBLISH
X-WR-TIMEZONE:Europe/Warsaw
BEGIN:VEVENT
UID:event616@Parafia Rzymskokatolicka Najświętszego Serca Jezusowego w Łęcz
 u - Salezjanie
DTSTAMP:20260420T001640Z
CATEGORIES:Msza Święta
DESCRIPTION:Za Dobrodziejów i Przyjaciół Salezjanów\nKategoria: Msza Święta
 \nLink: https://lecze-salezjanie.pl/index.php?option=com_jem&view=event&id
 =616:za-dobrodziejow-i-przyjaciol-salezjanow\n
DTSTART;TZID=Europe/Warsaw:20220531T180000
DTEND;TZID=Europe/Warsaw:20220531T180000
LOCATION:Kościół Najświętszego Serca Jezusowego w Łęczu\,Łęcze 48\,Łęcze
SUMMARY:Za Dobrodziejów i Przyjaciół Salezjanów
URL:https://lecze-salezjanie.pl/index.php?option=com_jem&view=event&id=616:
 za-dobrodziejow-i-przyjaciol-salezjanow
END:VEVENT
END:VCALENDAR