BEGIN:VCALENDAR
VERSION:2.0
PRODID:-//193.239.44.119//NONSGML kigkonsult.se iCalcreator 2.20//
CALSCALE:GREGORIAN
METHOD:PUBLISH
X-WR-TIMEZONE:Europe/Warsaw
BEGIN:VEVENT
UID:event617@Parafia Rzymskokatolicka Najświętszego Serca Jezusowego w Łęcz
 u - Salezjanie
DTSTAMP:20260419T223328Z
CATEGORIES:Msza Święta
DESCRIPTION:+ Eugeniusz i zmarli rodzice z obojga stron oraz Jadwiga i Czes
 ław\nKategoria: Msza Święta\nLink: https://lecze-salezjanie.pl/index.php?o
 ption=com_jem&view=event&id=617:eugeniusz-i-zmarli-rodzice-z-obojga-stron-
 oraz-jadwiga-i-czeslaw\n
DTSTART;TZID=Europe/Warsaw:20220620T180000
DTEND;TZID=Europe/Warsaw:20220620T180000
LOCATION:Kościół Najświętszego Serca Jezusowego w Łęczu\,Łęcze 48\,Łęcze
SUMMARY:+ Eugeniusz i zmarli rodzice z obojga stron oraz Jadwiga i Czesław
URL:https://lecze-salezjanie.pl/index.php?option=com_jem&view=event&id=617:
 eugeniusz-i-zmarli-rodzice-z-obojga-stron-oraz-jadwiga-i-czeslaw
END:VEVENT
END:VCALENDAR