BEGIN:VCALENDAR
VERSION:2.0
PRODID:-//193.239.44.119//NONSGML kigkonsult.se iCalcreator 2.20//
CALSCALE:GREGORIAN
METHOD:PUBLISH
X-WR-TIMEZONE:Europe/Warsaw
BEGIN:VEVENT
UID:event618@Parafia Rzymskokatolicka Najświętszego Serca Jezusowego w Łęcz
 u - Salezjanie
DTSTAMP:20260419T220359Z
CATEGORIES:Msza Święta
DESCRIPTION:O zdrowie\nKategoria: Msza Święta\nLink: https://lecze-salezjan
 ie.pl/index.php?option=com_jem&view=event&id=618:o-zdrowie\n
DTSTART;TZID=Europe/Warsaw:20220601T180000
DTEND;TZID=Europe/Warsaw:20220601T180000
LOCATION:Kościół Najświętszego Serca Jezusowego w Łęczu\,Łęcze 48\,Łęcze
SUMMARY:O zdrowie
URL:https://lecze-salezjanie.pl/index.php?option=com_jem&view=event&id=618:
 o-zdrowie
END:VEVENT
END:VCALENDAR