BEGIN:VCALENDAR
VERSION:2.0
PRODID:-//193.239.44.119//NONSGML kigkonsult.se iCalcreator 2.20//
CALSCALE:GREGORIAN
METHOD:PUBLISH
X-WR-TIMEZONE:Europe/Warsaw
BEGIN:VEVENT
UID:event621@Parafia Rzymskokatolicka Najświętszego Serca Jezusowego w Łęcz
 u - Salezjanie
DTSTAMP:20260419T223400Z
CATEGORIES:Msza Święta
DESCRIPTION:O zdrowie\, Boże Błogosławieństwo i opiekę Matki Bożej dla Piot
 ra Berneckiego i jego Rodziny\nKategoria: Msza Święta\nLink: https://lecze
 -salezjanie.pl/index.php?option=com_jem&view=event&id=621:o-zdrowie-boze-b
 logoslawienstwo-i-opieke-matki-bozej-dla-piotra-berneckiego-i-jego-rodziny
 \n
DTSTART;TZID=Europe/Warsaw:20220603T170000
DTEND;TZID=Europe/Warsaw:20220603T170000
LOCATION:Kościół Maryi Wspomożycielki Wiernych w Suchaczu\,Kielecka 12B\,Su
 chacz
SUMMARY:O zdrowie\, Boże Błogosławieństwo i opiekę Matki Bożej dla Piotra B
 erneckiego i jego Rodziny
URL:https://lecze-salezjanie.pl/index.php?option=com_jem&view=event&id=621:
 o-zdrowie-boze-blogoslawienstwo-i-opieke-matki-bozej-dla-piotra-berneckieg
 o-i-jego-rodziny
END:VEVENT
END:VCALENDAR