BEGIN:VCALENDAR
VERSION:2.0
PRODID:-//193.239.44.119//NONSGML kigkonsult.se iCalcreator 2.20//
CALSCALE:GREGORIAN
METHOD:PUBLISH
X-WR-TIMEZONE:Europe/Warsaw
BEGIN:VEVENT
UID:event622@Parafia Rzymskokatolicka Najświętszego Serca Jezusowego w Łęcz
 u - Salezjanie
DTSTAMP:20260419T220442Z
CATEGORIES:Msza Święta
DESCRIPTION:+ Małgorzata Parzych\nKategoria: Msza Święta\nLink: https://lec
 ze-salezjanie.pl/index.php?option=com_jem&view=event&id=622:malgorzata-par
 zych\n
DTSTART;TZID=Europe/Warsaw:20220612T090000
DTEND;TZID=Europe/Warsaw:20220612T090000
LOCATION:Kościół Najświętszego Serca Jezusowego w Łęczu\,Łęcze 48\,Łęcze
SUMMARY:+ Małgorzata Parzych
URL:https://lecze-salezjanie.pl/index.php?option=com_jem&view=event&id=622:
 malgorzata-parzych
END:VEVENT
END:VCALENDAR