BEGIN:VCALENDAR
VERSION:2.0
PRODID:-//193.239.44.119//NONSGML kigkonsult.se iCalcreator 2.20//
CALSCALE:GREGORIAN
METHOD:PUBLISH
X-WR-TIMEZONE:Europe/Warsaw
BEGIN:VEVENT
UID:event623@Parafia Rzymskokatolicka Najświętszego Serca Jezusowego w Łęcz
 u - Salezjanie
DTSTAMP:20260419T223217Z
CATEGORIES:Msza Święta
DESCRIPTION:Msza święta szkolna z racji 10-lecia nadania Imienia\nKategoria
 : Msza Święta\nLink: https://lecze-salezjanie.pl/index.php?option=com_jem&
 view=event&id=623:msza-swieta-szkolna-z-racji-10-lecia-nadania-imienia\n
DTSTART;TZID=Europe/Warsaw:20220608T090000
DTEND;TZID=Europe/Warsaw:20220608T090000
LOCATION:Kościół Najświętszego Serca Jezusowego w Łęczu\,Łęcze 48\,Łęcze
SUMMARY:Msza święta szkolna z racji 10-lecia nadania Imienia
URL:https://lecze-salezjanie.pl/index.php?option=com_jem&view=event&id=623:
 msza-swieta-szkolna-z-racji-10-lecia-nadania-imienia
END:VEVENT
END:VCALENDAR