BEGIN:VCALENDAR
VERSION:2.0
PRODID:-//193.239.44.119//NONSGML kigkonsult.se iCalcreator 2.20//
CALSCALE:GREGORIAN
METHOD:PUBLISH
X-WR-TIMEZONE:Europe/Warsaw
BEGIN:VEVENT
UID:event624@Parafia Rzymskokatolicka Najświętszego Serca Jezusowego w Łęcz
 u - Salezjanie
DTSTAMP:20260419T220359Z
CATEGORIES:Pogrzeb
DESCRIPTION:+ Grzegorz Podlaszewski\nKategoria: Pogrzeb\nLink: https://lecz
 e-salezjanie.pl/index.php?option=com_jem&view=event&id=624:grzegorz-podlas
 zewski\n
DTSTART;TZID=Europe/Warsaw:20220609T103000
DTEND;TZID=Europe/Warsaw:20220609T103000
LOCATION:Kościół Najświętszego Serca Jezusowego w Łęczu\,Łęcze 48\,Łęcze
SUMMARY:+ Grzegorz Podlaszewski
URL:https://lecze-salezjanie.pl/index.php?option=com_jem&view=event&id=624:
 grzegorz-podlaszewski
END:VEVENT
END:VCALENDAR