BEGIN:VCALENDAR
VERSION:2.0
PRODID:-//193.239.44.119//NONSGML kigkonsult.se iCalcreator 2.20//
CALSCALE:GREGORIAN
METHOD:PUBLISH
X-WR-TIMEZONE:Europe/Warsaw
BEGIN:VEVENT
UID:event626@Parafia Rzymskokatolicka Najświętszego Serca Jezusowego w Łęcz
 u - Salezjanie
DTSTAMP:20260419T223217Z
CATEGORIES:Msza Święta
DESCRIPTION:+ Grzegorz Podlaszewski - od Stanisława i Zofii Durda z rodziną
  z Wojkowa\nKategoria: Msza Święta\nLink: https://lecze-salezjanie.pl/inde
 x.php?option=com_jem&view=event&id=626:grzegorz-podlaszewski-od-stanislawa
 -i-zofii-durda-z-rodzina-z-wojkowa\n
DTSTART;TZID=Europe/Warsaw:20220615T180000
DTEND;TZID=Europe/Warsaw:20220615T180000
LOCATION:Kościół Najświętszego Serca Jezusowego w Łęczu\,Łęcze 48\,Łęcze
SUMMARY:+ Grzegorz Podlaszewski - od Stanisława i Zofii Durda z rodziną z W
 ojkowa
URL:https://lecze-salezjanie.pl/index.php?option=com_jem&view=event&id=626:
 grzegorz-podlaszewski-od-stanislawa-i-zofii-durda-z-rodzina-z-wojkowa
END:VEVENT
END:VCALENDAR