BEGIN:VCALENDAR
VERSION:2.0
PRODID:-//193.239.44.119//NONSGML kigkonsult.se iCalcreator 2.20//
CALSCALE:GREGORIAN
METHOD:PUBLISH
X-WR-TIMEZONE:Europe/Warsaw
BEGIN:VEVENT
UID:event62@Parafia Rzymskokatolicka Najświętszego Serca Jezusowego w Łęczu
  - Salezjanie
DTSTAMP:20260420T065212Z
CATEGORIES:Msza Święta
DESCRIPTION:+ Janina Niksa - Msza święta Gregoriańska (29)\nKategoria: Msza
  Święta\nLink: https://lecze-salezjanie.pl/index.php?option=com_jem&view=e
 vent&id=62:janina-niksa-msza-swieta-gregorianska-29\n
DTSTART;TZID=Europe/Warsaw:20220130T120000
DTEND;TZID=Europe/Warsaw:20220130T120000
LOCATION:Kościół Najświętszego Serca Jezusowego w Łęczu\,Łęcze 48\,Łęcze
SUMMARY:+ Janina Niksa - Msza święta Gregoriańska (29)
URL:https://lecze-salezjanie.pl/index.php?option=com_jem&view=event&id=62:j
 anina-niksa-msza-swieta-gregorianska-29
END:VEVENT
END:VCALENDAR