BEGIN:VCALENDAR
VERSION:2.0
PRODID:-//193.239.44.119//NONSGML kigkonsult.se iCalcreator 2.20//
CALSCALE:GREGORIAN
METHOD:PUBLISH
X-WR-TIMEZONE:Europe/Warsaw
BEGIN:VEVENT
UID:event630@Parafia Rzymskokatolicka Najświętszego Serca Jezusowego w Łęcz
 u - Salezjanie
DTSTAMP:20260419T184540Z
CATEGORIES:Msza Święta
DESCRIPTION:+ Ewa i Czesław Maszkowscy\, Janina\, Mieczysław\, Henryk Manow
 scy\nKategoria: Msza Święta\nLink: https://lecze-salezjanie.pl/index.php?o
 ption=com_jem&view=event&id=630:ewa-i-czeslaw-maszkowscy-janina-mieczyslaw
 -henryk-manowscy\n
DTSTART;TZID=Europe/Warsaw:20220807T090000
DTEND;TZID=Europe/Warsaw:20220807T090000
LOCATION:Kościół Najświętszego Serca Jezusowego w Łęczu\,Łęcze 48\,Łęcze
SUMMARY:+ Ewa i Czesław Maszkowscy\, Janina\, Mieczysław\, Henryk Manowscy
URL:https://lecze-salezjanie.pl/index.php?option=com_jem&view=event&id=630:
 ewa-i-czeslaw-maszkowscy-janina-mieczyslaw-henryk-manowscy
END:VEVENT
END:VCALENDAR