BEGIN:VCALENDAR
VERSION:2.0
PRODID:-//193.239.44.119//NONSGML kigkonsult.se iCalcreator 2.20//
CALSCALE:GREGORIAN
METHOD:PUBLISH
X-WR-TIMEZONE:Europe/Warsaw
BEGIN:VEVENT
UID:event631@Parafia Rzymskokatolicka Najświętszego Serca Jezusowego w Łęcz
 u - Salezjanie
DTSTAMP:20260419T203555Z
CATEGORIES:Msza Święta
DESCRIPTION:+ Ryszard\, Jan\, Jadwiga\, Tadeusz\, Stanisław i z rodziny Mat
 ysiaków i Wrześniewskich\nKategoria: Msza Święta\nLink: https://lecze-sale
 zjanie.pl/index.php?option=com_jem&view=event&id=631:ryszard-jan-jadwiga-t
 adeusz-stanislaw-i-z-rodziny-matysiakow-i-wrzesniewskich\n
DTSTART;TZID=Europe/Warsaw:20220703T103000
DTEND;TZID=Europe/Warsaw:20220703T103000
LOCATION:Kościół Maryi Wspomożycielki Wiernych w Suchaczu\,Kielecka 12B\,Su
 chacz
SUMMARY:+ Ryszard\, Jan\, Jadwiga\, Tadeusz\, Stanisław i z rodziny Matysia
 ków i Wrześniewskich
URL:https://lecze-salezjanie.pl/index.php?option=com_jem&view=event&id=631:
 ryszard-jan-jadwiga-tadeusz-stanislaw-i-z-rodziny-matysiakow-i-wrzesniewsk
 ich
END:VEVENT
END:VCALENDAR