BEGIN:VCALENDAR
VERSION:2.0
PRODID:-//193.239.44.119//NONSGML kigkonsult.se iCalcreator 2.20//
CALSCALE:GREGORIAN
METHOD:PUBLISH
X-WR-TIMEZONE:Europe/Warsaw
BEGIN:VEVENT
UID:event635@Parafia Rzymskokatolicka Najświętszego Serca Jezusowego w Łęcz
 u - Salezjanie
DTSTAMP:20260419T223417Z
CATEGORIES:Msza Święta
DESCRIPTION:O Boże Błogosławieństwo i potrzebne łaski dla Doroty\, Przemysł
 awa Serkis i ich Rodziny z okazji rocznicy ślubu\nKategoria: Msza Święta\n
 Link: https://lecze-salezjanie.pl/index.php?option=com_jem&view=event&id=6
 35:o-boze-blogoslawienstwo-i-potrzebne-laski-dla-doroty-przemyslawa-serkis
 -i-ich-rodziny-z-okazji-rocznicy-slubu\n
DTSTART;TZID=Europe/Warsaw:20220617T180000
DTEND;TZID=Europe/Warsaw:20220617T180000
LOCATION:Kościół Najświętszego Serca Jezusowego w Łęczu\,Łęcze 48\,Łęcze
SUMMARY:O Boże Błogosławieństwo i potrzebne łaski dla Doroty\, Przemysława 
 Serkis i ich Rodziny z okazji rocznicy ślubu
URL:https://lecze-salezjanie.pl/index.php?option=com_jem&view=event&id=635:
 o-boze-blogoslawienstwo-i-potrzebne-laski-dla-doroty-przemyslawa-serkis-i-
 ich-rodziny-z-okazji-rocznicy-slubu
END:VEVENT
END:VCALENDAR