BEGIN:VCALENDAR
VERSION:2.0
PRODID:-//193.239.44.119//NONSGML kigkonsult.se iCalcreator 2.20//
CALSCALE:GREGORIAN
METHOD:PUBLISH
X-WR-TIMEZONE:Europe/Warsaw
BEGIN:VEVENT
UID:event636@Parafia Rzymskokatolicka Najświętszego Serca Jezusowego w Łęcz
 u - Salezjanie
DTSTAMP:20260419T223400Z
CATEGORIES:Msza Święta
DESCRIPTION:O zdrowie\, Boże Błogosławieństwo i opiekę Matki Bożej dla Kami
 la Kowalskiego\nKategoria: Msza Święta\nLink: https://lecze-salezjanie.pl/
 index.php?option=com_jem&view=event&id=636:o-zdrowie-boze-blogoslawienstwo
 -i-opieke-matki-bozej-dla-kamila-kowalskiego-1\n
DTSTART;TZID=Europe/Warsaw:20220621T170000
DTEND;TZID=Europe/Warsaw:20220621T170000
LOCATION:Kościół Maryi Wspomożycielki Wiernych w Suchaczu\,Kielecka 12B\,Su
 chacz
SUMMARY:O zdrowie\, Boże Błogosławieństwo i opiekę Matki Bożej dla Kamila K
 owalskiego
URL:https://lecze-salezjanie.pl/index.php?option=com_jem&view=event&id=636:
 o-zdrowie-boze-blogoslawienstwo-i-opieke-matki-bozej-dla-kamila-kowalskieg
 o-1
END:VEVENT
END:VCALENDAR