BEGIN:VCALENDAR
VERSION:2.0
PRODID:-//193.239.44.119//NONSGML kigkonsult.se iCalcreator 2.20//
CALSCALE:GREGORIAN
METHOD:PUBLISH
X-WR-TIMEZONE:Europe/Warsaw
BEGIN:VEVENT
UID:event638@Parafia Rzymskokatolicka Najświętszego Serca Jezusowego w Łęcz
 u - Salezjanie
DTSTAMP:20260419T203858Z
CATEGORIES:Msza Święta
DESCRIPTION:O Boże Błogosławieństwo\, zdrowie i opiekę Matki Bożej dla Anny
  Rymsza z okazji imienin\nKategoria: Msza Święta\nLink: https://lecze-sale
 zjanie.pl/index.php?option=com_jem&view=event&id=638:o-boze-blogoslawienst
 wo-zdrowie-i-opieke-matki-bozej-dla-anny-rymsza-z-okazji-imienin\n
DTSTART;TZID=Europe/Warsaw:20220728T170000
DTEND;TZID=Europe/Warsaw:20220728T170000
LOCATION:Kościół Maryi Wspomożycielki Wiernych w Suchaczu\,Kielecka 12B\,Su
 chacz
SUMMARY:O Boże Błogosławieństwo\, zdrowie i opiekę Matki Bożej dla Anny Rym
 sza z okazji imienin
URL:https://lecze-salezjanie.pl/index.php?option=com_jem&view=event&id=638:
 o-boze-blogoslawienstwo-zdrowie-i-opieke-matki-bozej-dla-anny-rymsza-z-oka
 zji-imienin
END:VEVENT
END:VCALENDAR