BEGIN:VCALENDAR
VERSION:2.0
PRODID:-//193.239.44.119//NONSGML kigkonsult.se iCalcreator 2.20//
CALSCALE:GREGORIAN
METHOD:PUBLISH
X-WR-TIMEZONE:Europe/Warsaw
BEGIN:VEVENT
UID:event639@Parafia Rzymskokatolicka Najświętszego Serca Jezusowego w Łęcz
 u - Salezjanie
DTSTAMP:20260419T170016Z
CATEGORIES:Msza Święta
DESCRIPTION:+ Zbigniew Pręcikowski i zmarli rodzice z obojga stron\nKategor
 ia: Msza Święta\nLink: https://lecze-salezjanie.pl/index.php?option=com_je
 m&view=event&id=639:zbigniew-precikowski-i-zmarli-rodzice-z-obojga-stron\n
DTSTART;TZID=Europe/Warsaw:20220918T103000
DTEND;TZID=Europe/Warsaw:20220918T103000
LOCATION:Kościół Maryi Wspomożycielki Wiernych w Suchaczu\,Kielecka 12B\,Su
 chacz
SUMMARY:+ Zbigniew Pręcikowski i zmarli rodzice z obojga stron
URL:https://lecze-salezjanie.pl/index.php?option=com_jem&view=event&id=639:
 zbigniew-precikowski-i-zmarli-rodzice-z-obojga-stron
END:VEVENT
END:VCALENDAR