BEGIN:VCALENDAR
VERSION:2.0
PRODID:-//193.239.44.119//NONSGML kigkonsult.se iCalcreator 2.20//
CALSCALE:GREGORIAN
METHOD:PUBLISH
X-WR-TIMEZONE:Europe/Warsaw
BEGIN:VEVENT
UID:event63@Parafia Rzymskokatolicka Najświętszego Serca Jezusowego w Łęczu
  - Salezjanie
DTSTAMP:20260420T065612Z
CATEGORIES:Msza Święta
DESCRIPTION:+ Józef - w 35 rocznicę śmierci i Jadwiga Wiśniewscy\, Janina i
  Stanisław i wszyscy zmarli z rodziny Woś\nKategoria: Msza Święta\nLink: h
 ttps://lecze-salezjanie.pl/index.php?option=com_jem&view=event&id=63:jozef
 -w-35-rocznice-smierci-i-jadwiga-wisniewscy-janina-i-stanislaw-i-wszyscy-z
 marli-z-rodziny-wos\n
DTSTART;TZID=Europe/Warsaw:20220130T090000
DTEND;TZID=Europe/Warsaw:20220130T090000
LOCATION:Kościół Najświętszego Serca Jezusowego w Łęczu\,Łęcze 48\,Łęcze
SUMMARY:+ Józef - w 35 rocznicę śmierci i Jadwiga Wiśniewscy\, Janina i Sta
 nisław i wszyscy zmarli z rodziny Woś
URL:https://lecze-salezjanie.pl/index.php?option=com_jem&view=event&id=63:j
 ozef-w-35-rocznice-smierci-i-jadwiga-wisniewscy-janina-i-stanislaw-i-wszys
 cy-zmarli-z-rodziny-wos
END:VEVENT
END:VCALENDAR