BEGIN:VCALENDAR
VERSION:2.0
PRODID:-//193.239.44.119//NONSGML kigkonsult.se iCalcreator 2.20//
CALSCALE:GREGORIAN
METHOD:PUBLISH
X-WR-TIMEZONE:Europe/Warsaw
BEGIN:VEVENT
UID:event642@Parafia Rzymskokatolicka Najświętszego Serca Jezusowego w Łęcz
 u - Salezjanie
DTSTAMP:20260419T223328Z
CATEGORIES:Msza Święta
DESCRIPTION:O zdrowie i nieustanną opiekę Matki Bożej Nieustającej Pomocy d
 la Charlotte\nKategoria: Msza Święta\nLink: https://lecze-salezjanie.pl/in
 dex.php?option=com_jem&view=event&id=642:o-zdrowie-i-nieustanna-opieke-mat
 ki-bozej-nieustajacej-pomocy-dla-charlotte\n
DTSTART;TZID=Europe/Warsaw:20220627T180000
DTEND;TZID=Europe/Warsaw:20220627T180000
LOCATION:Kościół Najświętszego Serca Jezusowego w Łęczu\,Łęcze 48\,Łęcze
SUMMARY:O zdrowie i nieustanną opiekę Matki Bożej Nieustającej Pomocy dla C
 harlotte
URL:https://lecze-salezjanie.pl/index.php?option=com_jem&view=event&id=642:
 o-zdrowie-i-nieustanna-opieke-matki-bozej-nieustajacej-pomocy-dla-charlott
 e
END:VEVENT
END:VCALENDAR