BEGIN:VCALENDAR
VERSION:2.0
PRODID:-//193.239.44.119//NONSGML kigkonsult.se iCalcreator 2.20//
CALSCALE:GREGORIAN
METHOD:PUBLISH
X-WR-TIMEZONE:Europe/Warsaw
BEGIN:VEVENT
UID:event647@Parafia Rzymskokatolicka Najświętszego Serca Jezusowego w Łęcz
 u - Salezjanie
DTSTAMP:20260419T184644Z
CATEGORIES:Msza Święta
DESCRIPTION:O zdrowie\, Boże Błogosławieństwo i opiekę Matki Bożej dla Alek
 sandry\nKategoria: Msza Święta\nLink: https://lecze-salezjanie.pl/index.ph
 p?option=com_jem&view=event&id=647:o-zdrowie-boze-blogoslawienstwo-i-opiek
 e-matki-bozej-dla-aleksandry\n
DTSTART;TZID=Europe/Warsaw:20220815T120000
DTEND;TZID=Europe/Warsaw:20220815T120000
LOCATION:Kościół Najświętszego Serca Jezusowego w Łęczu\,Łęcze 48\,Łęcze
SUMMARY:O zdrowie\, Boże Błogosławieństwo i opiekę Matki Bożej dla Aleksand
 ry
URL:https://lecze-salezjanie.pl/index.php?option=com_jem&view=event&id=647:
 o-zdrowie-boze-blogoslawienstwo-i-opieke-matki-bozej-dla-aleksandry
END:VEVENT
END:VCALENDAR