BEGIN:VCALENDAR
VERSION:2.0
PRODID:-//193.239.44.119//NONSGML kigkonsult.se iCalcreator 2.20//
CALSCALE:GREGORIAN
METHOD:PUBLISH
X-WR-TIMEZONE:Europe/Warsaw
BEGIN:VEVENT
UID:event648@Parafia Rzymskokatolicka Najświętszego Serca Jezusowego w Łęcz
 u - Salezjanie
DTSTAMP:20260419T170222Z
CATEGORIES:Msza Święta
DESCRIPTION:O dary Bożej Miłości\, Boże Błogosławieństwo i opiekę Matki Boż
 ej dla Moniki i Piotra wraz z dziećmi - z okazji 20 rocznicy ślubu\nKatego
 ria: Msza Święta\nLink: https://lecze-salezjanie.pl/index.php?option=com_j
 em&view=event&id=648:o-dary-bozej-milosci-boze-blogoslawienstwo-i-opieke-m
 atki-bozej-dla-moniki-i-piotra-wraz-z-dziecmi-z-okazji-20-rocznicy-slubu\n
DTSTART;TZID=Europe/Warsaw:20220918T090000
DTEND;TZID=Europe/Warsaw:20220918T090000
LOCATION:Kościół Najświętszego Serca Jezusowego w Łęczu\,Łęcze 48\,Łęcze
SUMMARY:O dary Bożej Miłości\, Boże Błogosławieństwo i opiekę Matki Bożej d
 la Moniki i Piotra wraz z dziećmi - z okazji 20 rocznicy ślubu
URL:https://lecze-salezjanie.pl/index.php?option=com_jem&view=event&id=648:
 o-dary-bozej-milosci-boze-blogoslawienstwo-i-opieke-matki-bozej-dla-moniki
 -i-piotra-wraz-z-dziecmi-z-okazji-20-rocznicy-slubu
END:VEVENT
END:VCALENDAR