BEGIN:VCALENDAR
VERSION:2.0
PRODID:-//193.239.44.119//NONSGML kigkonsult.se iCalcreator 2.20//
CALSCALE:GREGORIAN
METHOD:PUBLISH
X-WR-TIMEZONE:Europe/Warsaw
BEGIN:VEVENT
UID:event649@Parafia Rzymskokatolicka Najświętszego Serca Jezusowego w Łęcz
 u - Salezjanie
DTSTAMP:20260419T152042Z
CATEGORIES:Msza Święta
DESCRIPTION:+ Tadeusz\, Andrzej i Halina Lejmanowicz\nKategoria: Msza Święt
 a\nLink: https://lecze-salezjanie.pl/index.php?option=com_jem&view=event&i
 d=649:tadeusz-andrzej-i-halina-lejmanowicz\n
DTSTART;TZID=Europe/Warsaw:20221030T120000
DTEND;TZID=Europe/Warsaw:20221030T120000
LOCATION:Kościół Najświętszego Serca Jezusowego w Łęczu\,Łęcze 48\,Łęcze
SUMMARY:+ Tadeusz\, Andrzej i Halina Lejmanowicz
URL:https://lecze-salezjanie.pl/index.php?option=com_jem&view=event&id=649:
 tadeusz-andrzej-i-halina-lejmanowicz
END:VEVENT
END:VCALENDAR