BEGIN:VCALENDAR
VERSION:2.0
PRODID:-//193.239.44.119//NONSGML kigkonsult.se iCalcreator 2.20//
CALSCALE:GREGORIAN
METHOD:PUBLISH
X-WR-TIMEZONE:Europe/Warsaw
BEGIN:VEVENT
UID:event651@Parafia Rzymskokatolicka Najświętszego Serca Jezusowego w Łęcz
 u - Salezjanie
DTSTAMP:20260419T204050Z
CATEGORIES:Msza Święta
DESCRIPTION:Dziękczynna za 50 lat małżeństwa\, o zdrowie\, opiekę Matki Boż
 ej\, z prośbą o Błogosławieństwo Boże na dalsze lata życia dla Zofii i Kaz
 imierza\, także dla dzieci i ich rodzin\nKategoria: Msza Święta\nLink: htt
 ps://lecze-salezjanie.pl/index.php?option=com_jem&view=event&id=651:dziekc
 zynna-za-50-lat-malzenstwa-o-zdrowie-opieke-matki-bozej-z-prosba-o-blogosl
 awienstwo-boze-na-dalsze-lata-zycia-dla-zofii-i-kazimierza-takze-dla-dziec
 i-i-ich-rodzin\n
DTSTART;TZID=Europe/Warsaw:20220714T170000
DTEND;TZID=Europe/Warsaw:20220714T170000
LOCATION:Kościół Maryi Wspomożycielki Wiernych w Suchaczu\,Kielecka 12B\,Su
 chacz
SUMMARY:Dziękczynna za 50 lat małżeństwa\, o zdrowie\, opiekę Matki Bożej\,
  z prośbą o Błogosławieństwo Boże na dalsze lata życia dla Zofii i Kazimie
 rza\, także dla dzieci i ich rodzin
URL:https://lecze-salezjanie.pl/index.php?option=com_jem&view=event&id=651:
 dziekczynna-za-50-lat-malzenstwa-o-zdrowie-opieke-matki-bozej-z-prosba-o-b
 logoslawienstwo-boze-na-dalsze-lata-zycia-dla-zofii-i-kazimierza-takze-dla
 -dzieci-i-ich-rodzin
END:VEVENT
END:VCALENDAR