BEGIN:VCALENDAR
VERSION:2.0
PRODID:-//193.239.44.119//NONSGML kigkonsult.se iCalcreator 2.20//
CALSCALE:GREGORIAN
METHOD:PUBLISH
X-WR-TIMEZONE:Europe/Warsaw
BEGIN:VEVENT
UID:event652@Parafia Rzymskokatolicka Najświętszego Serca Jezusowego w Łęcz
 u - Salezjanie
DTSTAMP:20260419T203831Z
CATEGORIES:Msza Święta
DESCRIPTION:O zdrowie\, Błogosławieństwo Boże i opiekę Matki Bożej dla rodz
 iny Śmiechów i Gawlików\nKategoria: Msza Święta\nLink: https://lecze-salez
 janie.pl/index.php?option=com_jem&view=event&id=652:o-zdrowie-blogoslawien
 stwo-boze-i-opieke-matki-bozej-dla-rodziny-smiechow-i-gawlikow\n
DTSTART;TZID=Europe/Warsaw:20220718T180000
DTEND;TZID=Europe/Warsaw:20220718T180000
LOCATION:Kościół Najświętszego Serca Jezusowego w Łęczu\,Łęcze 48\,Łęcze
SUMMARY:O zdrowie\, Błogosławieństwo Boże i opiekę Matki Bożej dla rodziny 
 Śmiechów i Gawlików
URL:https://lecze-salezjanie.pl/index.php?option=com_jem&view=event&id=652:
 o-zdrowie-blogoslawienstwo-boze-i-opieke-matki-bozej-dla-rodziny-smiechow-
 i-gawlikow
END:VEVENT
END:VCALENDAR