BEGIN:VCALENDAR
VERSION:2.0
PRODID:-//193.239.44.119//NONSGML kigkonsult.se iCalcreator 2.20//
CALSCALE:GREGORIAN
METHOD:PUBLISH
X-WR-TIMEZONE:Europe/Warsaw
BEGIN:VEVENT
UID:event657@Parafia Rzymskokatolicka Najświętszego Serca Jezusowego w Łęcz
 u - Salezjanie
DTSTAMP:20260419T121328Z
CATEGORIES:Msza Święta
DESCRIPTION:+ Karolina\, Władysław\, Józef Franczyk\, Stanisław Sacha\, Ali
 cja i Jerzy Zemła\, zmarli z rodziny\nKategoria: Msza Święta\nLink: https:
 //lecze-salezjanie.pl/index.php?option=com_jem&view=event&id=657:karolina-
 wladyslaw-jozef-franczyk-stanislaw-sacha-alicja-i-jerzy-zemla-zmarli-z-rod
 ziny-1\n
DTSTART;TZID=Europe/Warsaw:20221109T180000
DTEND;TZID=Europe/Warsaw:20221109T180000
LOCATION:Kościół Najświętszego Serca Jezusowego w Łęczu\,Łęcze 48\,Łęcze
SUMMARY:+ Karolina\, Władysław\, Józef Franczyk\, Stanisław Sacha\, Alicja 
 i Jerzy Zemła\, zmarli z rodziny
URL:https://lecze-salezjanie.pl/index.php?option=com_jem&view=event&id=657:
 karolina-wladyslaw-jozef-franczyk-stanislaw-sacha-alicja-i-jerzy-zemla-zma
 rli-z-rodziny-1
END:VEVENT
END:VCALENDAR