BEGIN:VCALENDAR
VERSION:2.0
PRODID:-//193.239.44.119//NONSGML kigkonsult.se iCalcreator 2.20//
CALSCALE:GREGORIAN
METHOD:PUBLISH
X-WR-TIMEZONE:Europe/Warsaw
BEGIN:VEVENT
UID:event658@Parafia Rzymskokatolicka Najświętszego Serca Jezusowego w Łęcz
 u - Salezjanie
DTSTAMP:20260419T184523Z
CATEGORIES:Msza Święta
DESCRIPTION:+ Zofia i Józef Niemiec\, Maria i Tadeusz Gawlik\, Maria Francz
 yk\nKategoria: Msza Święta\nLink: https://lecze-salezjanie.pl/index.php?op
 tion=com_jem&view=event&id=658:zofia-i-jozef-niemiec-maria-i-tadeusz-gawli
 k-maria-franczyk\n
DTSTART;TZID=Europe/Warsaw:20220808T180000
DTEND;TZID=Europe/Warsaw:20220808T180000
LOCATION:Kościół Najświętszego Serca Jezusowego w Łęczu\,Łęcze 48\,Łęcze
SUMMARY:+ Zofia i Józef Niemiec\, Maria i Tadeusz Gawlik\, Maria Franczyk
URL:https://lecze-salezjanie.pl/index.php?option=com_jem&view=event&id=658:
 zofia-i-jozef-niemiec-maria-i-tadeusz-gawlik-maria-franczyk
END:VEVENT
END:VCALENDAR