BEGIN:VCALENDAR
VERSION:2.0
PRODID:-//193.239.44.119//NONSGML kigkonsult.se iCalcreator 2.20//
CALSCALE:GREGORIAN
METHOD:PUBLISH
X-WR-TIMEZONE:Europe/Warsaw
BEGIN:VEVENT
UID:event659@Parafia Rzymskokatolicka Najświętszego Serca Jezusowego w Łęcz
 u - Salezjanie
DTSTAMP:20260419T184653Z
CATEGORIES:Msza Święta
DESCRIPTION:O Boże Błogosławieństwo\, opiekę Matki Bożej i zdrowie dla rodz
 iny Cebulów\, Gawlików i Kułaków\nKategoria: Msza Święta\nLink: https://le
 cze-salezjanie.pl/index.php?option=com_jem&view=event&id=659:o-boze-blogos
 lawienstwo-opieke-matki-bozej-i-zdrowie-dla-rodziny-cebulow-gawlikow-i-kul
 akow\n
DTSTART;TZID=Europe/Warsaw:20220809T170000
DTEND;TZID=Europe/Warsaw:20220809T170000
LOCATION:Kościół Maryi Wspomożycielki Wiernych w Suchaczu\,Kielecka 12B\,Su
 chacz
SUMMARY:O Boże Błogosławieństwo\, opiekę Matki Bożej i zdrowie dla rodziny 
 Cebulów\, Gawlików i Kułaków
URL:https://lecze-salezjanie.pl/index.php?option=com_jem&view=event&id=659:
 o-boze-blogoslawienstwo-opieke-matki-bozej-i-zdrowie-dla-rodziny-cebulow-g
 awlikow-i-kulakow
END:VEVENT
END:VCALENDAR