BEGIN:VCALENDAR
VERSION:2.0
PRODID:-//193.239.44.119//NONSGML kigkonsult.se iCalcreator 2.20//
CALSCALE:GREGORIAN
METHOD:PUBLISH
X-WR-TIMEZONE:Europe/Warsaw
BEGIN:VEVENT
UID:event662@Parafia Rzymskokatolicka Najświętszego Serca Jezusowego w Łęcz
 u - Salezjanie
DTSTAMP:20260419T184653Z
CATEGORIES:Msza Święta
DESCRIPTION:O Boże Błogosławieństwo\, opiekę Matki Bożej dla całej rodziny 
 Myszka i szczęśliwe zakończenie budowy\nKategoria: Msza Święta\nLink: http
 s://lecze-salezjanie.pl/index.php?option=com_jem&view=event&id=662:o-boze-
 blogoslawienstwo-opieke-matki-bozej-dla-calej-rodziny-myszka-i-szczesliwe-
 zakonczenie-budowy\n
DTSTART;TZID=Europe/Warsaw:20220811T170000
DTEND;TZID=Europe/Warsaw:20220811T170000
LOCATION:Kościół Maryi Wspomożycielki Wiernych w Suchaczu\,Kielecka 12B\,Su
 chacz
SUMMARY:O Boże Błogosławieństwo\, opiekę Matki Bożej dla całej rodziny Mysz
 ka i szczęśliwe zakończenie budowy
URL:https://lecze-salezjanie.pl/index.php?option=com_jem&view=event&id=662:
 o-boze-blogoslawienstwo-opieke-matki-bozej-dla-calej-rodziny-myszka-i-szcz
 esliwe-zakonczenie-budowy
END:VEVENT
END:VCALENDAR